BEGIN:VCALENDAR
VERSION:2.0
PRODID:-//Lightwater Scouts - ECPv6.15.20//NONSGML v1.0//EN
CALSCALE:GREGORIAN
METHOD:PUBLISH
X-WR-CALNAME:Lightwater Scouts
X-ORIGINAL-URL:https://lightwaterscouts.org.uk
X-WR-CALDESC:Events for Lightwater Scouts
REFRESH-INTERVAL;VALUE=DURATION:PT1H
X-Robots-Tag:noindex
X-PUBLISHED-TTL:PT1H
BEGIN:VTIMEZONE
TZID:Europe/London
BEGIN:DAYLIGHT
TZOFFSETFROM:+0000
TZOFFSETTO:+0100
TZNAME:BST
DTSTART:20220327T010000
END:DAYLIGHT
BEGIN:STANDARD
TZOFFSETFROM:+0100
TZOFFSETTO:+0000
TZNAME:GMT
DTSTART:20221030T010000
END:STANDARD
BEGIN:DAYLIGHT
TZOFFSETFROM:+0000
TZOFFSETTO:+0100
TZNAME:BST
DTSTART:20230326T010000
END:DAYLIGHT
BEGIN:STANDARD
TZOFFSETFROM:+0100
TZOFFSETTO:+0000
TZNAME:GMT
DTSTART:20231029T010000
END:STANDARD
BEGIN:DAYLIGHT
TZOFFSETFROM:+0000
TZOFFSETTO:+0100
TZNAME:BST
DTSTART:20240331T010000
END:DAYLIGHT
BEGIN:STANDARD
TZOFFSETFROM:+0100
TZOFFSETTO:+0000
TZNAME:GMT
DTSTART:20241027T010000
END:STANDARD
BEGIN:DAYLIGHT
TZOFFSETFROM:+0000
TZOFFSETTO:+0100
TZNAME:BST
DTSTART:20250330T010000
END:DAYLIGHT
BEGIN:STANDARD
TZOFFSETFROM:+0100
TZOFFSETTO:+0000
TZNAME:GMT
DTSTART:20251026T010000
END:STANDARD
END:VTIMEZONE
BEGIN:VEVENT
DTSTART;TZID=Europe/London:20240510T180000
DTEND;TZID=Europe/London:20240512T120000
DTSTAMP:20260421T232434
CREATED:20231122T123135Z
LAST-MODIFIED:20231122T123135Z
UID:5153-1715364000-1715515200@lightwaterscouts.org.uk
SUMMARY:Senior Cub Camp 2024
DESCRIPTION:
URL:https://lightwaterscouts.org.uk/event/senior-cub-camp-2024/
LOCATION:Garner’s Field
CATEGORIES:2-Cubs
END:VEVENT
BEGIN:VEVENT
DTSTART;VALUE=DATE:20230714
DTEND;VALUE=DATE:20230717
DTSTAMP:20260421T232434
CREATED:20230613T091422Z
LAST-MODIFIED:20230613T091422Z
UID:4081-1689292800-1689551999@lightwaterscouts.org.uk
SUMMARY:Cub camp - Waingunga
DESCRIPTION:
URL:https://lightwaterscouts.org.uk/event/cub-camp-waingunga/
LOCATION:Fernycrofts\, Beaulieu Road\, Brockenhurst\, Hampshire\, SO42 7YQ\, United Kingdom
CATEGORIES:2-Cubs
END:VEVENT
BEGIN:VEVENT
DTSTART;VALUE=DATE:20230617
DTEND;VALUE=DATE:20230618
DTSTAMP:20260421T232434
CREATED:20230522T100511Z
LAST-MODIFIED:20230522T100511Z
UID:3290-1686960000-1687046399@lightwaterscouts.org.uk
SUMMARY:SCRAM (Cubs)
DESCRIPTION:SCRAM (Cubs)
URL:https://lightwaterscouts.org.uk/event/scram-cubs/
LOCATION:Scout HQ\, The Avenue\, Lightwater\, GU18 5RG\, United Kingdom
CATEGORIES:2-Cubs
END:VEVENT
BEGIN:VEVENT
DTSTART;VALUE=DATE:20230616
DTEND;VALUE=DATE:20230619
DTSTAMP:20260421T232434
CREATED:20230522T100425Z
LAST-MODIFIED:20230522T100557Z
UID:3287-1686873600-1687132799@lightwaterscouts.org.uk
SUMMARY:Seeonee Cub camp
DESCRIPTION:Seeonee Cub camp
URL:https://lightwaterscouts.org.uk/event/seeonee-cub-camp/
LOCATION:Scout HQ\, The Avenue\, Lightwater\, GU18 5RG\, United Kingdom
CATEGORIES:2-Cubs
END:VEVENT
END:VCALENDAR